BEGIN:VCALENDAR
VERSION:2.0
PRODID:-//ceda - ECPv6.15.20//NONSGML v1.0//EN
CALSCALE:GREGORIAN
METHOD:PUBLISH
X-ORIGINAL-URL:https://ceda.co.uk
X-WR-CALDESC:Events for ceda
REFRESH-INTERVAL;VALUE=DURATION:PT1H
X-Robots-Tag:noindex
X-PUBLISHED-TTL:PT1H
BEGIN:VTIMEZONE
TZID:UTC
BEGIN:STANDARD
TZOFFSETFROM:+0000
TZOFFSETTO:+0000
TZNAME:UTC
DTSTART:20250101T000000
END:STANDARD
END:VTIMEZONE
BEGIN:VEVENT
DTSTART;VALUE=DATE:20260616
DTEND;VALUE=DATE:20260618
DTSTAMP:20260424T160305
CREATED:20251104T151125Z
LAST-MODIFIED:20251210T123923Z
UID:106526-1781568000-1781740799@ceda.co.uk
SUMMARY:ceda Conference 2026
DESCRIPTION:
URL:https://ceda.co.uk/event/ceda-conference-2026/
LOCATION:Hilton at St George’s Park\, St. George's Park\, Newborough Rd\, Needwood\, Burton-on-Trent\, DE13 9PD\, United Kingdom
ATTACH;FMTTYPE=image/jpeg:https://ceda.co.uk/wp-content/uploads/2025/11/ceda-Conference-Teaser-2026_1200px-scaled.jpg
END:VEVENT
END:VCALENDAR