BEGIN:VCALENDAR
VERSION:2.0
PRODID:-//ceda - ECPv6.15.20//NONSGML v1.0//EN
CALSCALE:GREGORIAN
METHOD:PUBLISH
X-WR-CALNAME:ceda
X-ORIGINAL-URL:https://ceda.co.uk
X-WR-CALDESC:Events for ceda
REFRESH-INTERVAL;VALUE=DURATION:PT1H
X-Robots-Tag:noindex
X-PUBLISHED-TTL:PT1H
BEGIN:VTIMEZONE
TZID:UTC
BEGIN:STANDARD
TZOFFSETFROM:+0000
TZOFFSETTO:+0000
TZNAME:UTC
DTSTART:20250101T000000
END:STANDARD
END:VTIMEZONE
BEGIN:VEVENT
DTSTART;VALUE=DATE:20260508
DTEND;VALUE=DATE:20260509
DTSTAMP:20260424T142545
CREATED:20260402T105417Z
LAST-MODIFIED:20260402T110353Z
UID:107549-1778198400-1778284799@ceda.co.uk
SUMMARY:Brew & Biscuit Event
DESCRIPTION:📅 Date for your diary 📅\n\nceda’s next Brew & Biscuit event is on Friday 8th May 2026 ☕🍪\n\nAs always\, we’re encouraging ceda Members and Partners to host an in-house gathering where staff can come together over a cup of tea or coffee and have an open conversation about mental health and wellbeing. Whether it’s in the office or on the road\, this is a chance to connect\, check-in with colleagues\, and raise awareness about the importance of mental health.⁠\n⁠\nLet’s take a moment to talk\, listen\, and support each other.⁠\n\nIn collaboration with The Burnt Chef Project®
URL:https://ceda.co.uk/event/brew-biscuit-event-may/
CATEGORIES:Wellbeing Event
ATTACH;FMTTYPE=image/jpeg:https://ceda.co.uk/wp-content/uploads/2026/04/LINKEDIN-cedaWellbing-BB-event-080526.jpg
END:VEVENT
END:VCALENDAR