BEGIN:VCALENDAR
VERSION:2.0
PRODID:-//ceda - ECPv6.15.20//NONSGML v1.0//EN
CALSCALE:GREGORIAN
METHOD:PUBLISH
X-WR-CALNAME:ceda
X-ORIGINAL-URL:https://ceda.co.uk
X-WR-CALDESC:Events for ceda
REFRESH-INTERVAL;VALUE=DURATION:PT1H
X-Robots-Tag:noindex
X-PUBLISHED-TTL:PT1H
BEGIN:VTIMEZONE
TZID:UTC
BEGIN:STANDARD
TZOFFSETFROM:+0000
TZOFFSETTO:+0000
TZNAME:UTC
DTSTART:20210101T000000
END:STANDARD
END:VTIMEZONE
BEGIN:VEVENT
DTSTART;VALUE=DATE:20220929
DTEND;VALUE=DATE:20221001
DTSTAMP:20260424T220722
CREATED:20220812T110430Z
LAST-MODIFIED:20220812T111312Z
UID:70057-1664409600-1664582399@ceda.co.uk
SUMMARY:ceda Conference 2022
DESCRIPTION:We’re back\, and we’re live!\n\nThe ceda Annual Conference returns on the 29th and 30th September in Royal Sutton Coldfield and we’re finalising our lists of amazing speakers and seminars.\n\nSo ‘save the date’ and take a look around the conference website to find out more and register.\n\nSee you there\, finally!
URL:https://ceda.co.uk/event/ceda-conference-2022/
LOCATION:The Belfry Hotel & Resort\, The Belfry Hotel & Resort\, Lichfield Rd\, The Royal Town of Sutton Coldfield\, B76 9PR\, United Kingdom
END:VEVENT
BEGIN:VEVENT
DTSTART;VALUE=DATE:20220914
DTEND;VALUE=DATE:20220916
DTSTAMP:20260424T220722
CREATED:20220812T120406Z
LAST-MODIFIED:20220812T120406Z
UID:70065-1663113600-1663286399@ceda.co.uk
SUMMARY:Commercial Kitchen Show
DESCRIPTION:THE KITCHEN EQUIPMENT\, SERVICES & DESIGN SHOW\nCommercial Kitchen is the essential industry event for buyers involved in equipping and running innovative and efficient commercial kitchens.\n\nFor decision-makers from restaurants\, pubs\, food-to-go multiples\, hotels\, schools\, hospitals or care homes\, Commercial Kitchen is a must-attend.\n\nCommercial Kitchen 2022 will be co-located with award-winning sister shows lunch! and Casual Dining allowing buyers to see an even greater range of products and innovations.
URL:https://ceda.co.uk/event/commercial-kitchen-show/
LOCATION:ExCel London\, Royal Victoria Dock\, 1 Western Gateway\, London\, E16 1XL\, United Kingdom
END:VEVENT
END:VCALENDAR