BEGIN:VCALENDAR
VERSION:2.0
PRODID:-//ceda - ECPv6.15.20//NONSGML v1.0//EN
CALSCALE:GREGORIAN
METHOD:PUBLISH
X-WR-CALNAME:ceda
X-ORIGINAL-URL:https://ceda.co.uk
X-WR-CALDESC:Events for ceda
REFRESH-INTERVAL;VALUE=DURATION:PT1H
X-Robots-Tag:noindex
X-PUBLISHED-TTL:PT1H
BEGIN:VTIMEZONE
TZID:UTC
BEGIN:STANDARD
TZOFFSETFROM:+0000
TZOFFSETTO:+0000
TZNAME:UTC
DTSTART:20240101T000000
END:STANDARD
END:VTIMEZONE
BEGIN:VEVENT
DTSTART;TZID=UTC:20251121T080000
DTEND;TZID=UTC:20251121T170000
DTSTAMP:20260425T001130
CREATED:20250926T131048Z
LAST-MODIFIED:20250926T131048Z
UID:106254-1763712000-1763744400@ceda.co.uk
SUMMARY:cedaWellbeing Brew and Biscuit Event
DESCRIPTION:
URL:https://ceda.co.uk/event/cedawellbeing-brew-and-biscuit-event-2/
CATEGORIES:Wellbeing Event
ATTACH;FMTTYPE=image/jpeg:https://ceda.co.uk/wp-content/uploads/2025/09/LINKEDIN-cedaWellbing-BB-event-211125.jpg
END:VEVENT
END:VCALENDAR